BEGIN:VCALENDAR
VERSION:2.0
PRODID:-//hacksw/handcal//NONSGML v1.0//EN
BEGIN:VEVENT
SUMMARY:Fete de l'ecole
UID:6beac8fa-c46e-4093-8db6-6502624287e5
DTSTART:20260625T123000Z
DTEND:20260625T160000Z
LOCATION:Localisation   
CATEGORIES:Sportif
STATUS:
URL;VALUE=URI:https://as-de-luz.club.ffbridge.fr/evenements/2026/06/25/fete-de-lecole-2426045
END:VEVENT
END:VCALENDAR
